BEGIN:VCALENDAR
VERSION:2.0
PRODID:-//Stationairy Restaurant - ECPv6.15.20//NONSGML v1.0//EN
CALSCALE:GREGORIAN
METHOD:PUBLISH
X-WR-CALNAME:Stationairy Restaurant
X-ORIGINAL-URL:https://stationairynashville.com
X-WR-CALDESC:Events for Stationairy Restaurant
REFRESH-INTERVAL;VALUE=DURATION:PT1H
X-Robots-Tag:noindex
X-PUBLISHED-TTL:PT1H
BEGIN:VTIMEZONE
TZID:UTC
BEGIN:STANDARD
TZOFFSETFROM:+0000
TZOFFSETTO:+0000
TZNAME:UTC
DTSTART:20250101T000000
END:STANDARD
END:VTIMEZONE
BEGIN:VEVENT
DTSTART;TZID=UTC:20261121T070000
DTEND;TZID=UTC:20261121T140000
DTSTAMP:20260419T142206
CREATED:20250326T155656Z
LAST-MODIFIED:20250521T145022Z
UID:10005974-1795244400-1795269600@stationairynashville.com
SUMMARY:Saturday Brunch
DESCRIPTION:Treat yourself to bottomless mimosas and a build your own Bloody Mary bar exclusively at The Union Station Nashville Yards\, right on Broadway in Nashville\, TN. Enjoy this specialty brunch along with the ease of complimentary two-hour valet parking. Reservations highly encouraged!
URL:https://stationairynashville.com/event/saturday-brunch/2026-11-21/
ATTACH;FMTTYPE=image/png:https://stationairynashville.com/wp-content/uploads/2025/03/Brunch-Bloody-Mary.png
END:VEVENT
BEGIN:VEVENT
DTSTART;TZID=UTC:20261122T070000
DTEND;TZID=UTC:20261122T140000
DTSTAMP:20260419T142206
CREATED:20250326T155047Z
LAST-MODIFIED:20250521T144905Z
UID:10004808-1795330800-1795356000@stationairynashville.com
SUMMARY:Sunday Brunch with Live DJ
DESCRIPTION:Treat yourself to bottomless mimosas\, a build your own Bloody Mary bar and a Sunday DJ exclusively at The Union Station Nashville Yards\, right on Broadway in Nashville\, TN. Specialty brunch offered all weekend long\, along with the ease of complimentary two-hour valet parking. Reservations highly encouraged!
URL:https://stationairynashville.com/event/sunday-brunch-with-live-dj/2026-11-22/
END:VEVENT
BEGIN:VEVENT
DTSTART;TZID=UTC:20261128T070000
DTEND;TZID=UTC:20261128T140000
DTSTAMP:20260419T142206
CREATED:20250326T155656Z
LAST-MODIFIED:20250521T145022Z
UID:10005975-1795849200-1795874400@stationairynashville.com
SUMMARY:Saturday Brunch
DESCRIPTION:Treat yourself to bottomless mimosas and a build your own Bloody Mary bar exclusively at The Union Station Nashville Yards\, right on Broadway in Nashville\, TN. Enjoy this specialty brunch along with the ease of complimentary two-hour valet parking. Reservations highly encouraged!
URL:https://stationairynashville.com/event/saturday-brunch/2026-11-28/
ATTACH;FMTTYPE=image/png:https://stationairynashville.com/wp-content/uploads/2025/03/Brunch-Bloody-Mary.png
END:VEVENT
BEGIN:VEVENT
DTSTART;TZID=UTC:20261129T070000
DTEND;TZID=UTC:20261129T140000
DTSTAMP:20260419T142206
CREATED:20250326T155047Z
LAST-MODIFIED:20250521T144905Z
UID:10004811-1795935600-1795960800@stationairynashville.com
SUMMARY:Sunday Brunch with Live DJ
DESCRIPTION:Treat yourself to bottomless mimosas\, a build your own Bloody Mary bar and a Sunday DJ exclusively at The Union Station Nashville Yards\, right on Broadway in Nashville\, TN. Specialty brunch offered all weekend long\, along with the ease of complimentary two-hour valet parking. Reservations highly encouraged!
URL:https://stationairynashville.com/event/sunday-brunch-with-live-dj/2026-11-29/
END:VEVENT
BEGIN:VEVENT
DTSTART;TZID=UTC:20261205T070000
DTEND;TZID=UTC:20261205T140000
DTSTAMP:20260419T142206
CREATED:20250326T155656Z
LAST-MODIFIED:20250521T145022Z
UID:10005976-1796454000-1796479200@stationairynashville.com
SUMMARY:Saturday Brunch
DESCRIPTION:Treat yourself to bottomless mimosas and a build your own Bloody Mary bar exclusively at The Union Station Nashville Yards\, right on Broadway in Nashville\, TN. Enjoy this specialty brunch along with the ease of complimentary two-hour valet parking. Reservations highly encouraged!
URL:https://stationairynashville.com/event/saturday-brunch/2026-12-05/
ATTACH;FMTTYPE=image/png:https://stationairynashville.com/wp-content/uploads/2025/03/Brunch-Bloody-Mary.png
END:VEVENT
BEGIN:VEVENT
DTSTART;TZID=UTC:20261206T070000
DTEND;TZID=UTC:20261206T140000
DTSTAMP:20260419T142206
CREATED:20250326T155047Z
LAST-MODIFIED:20250521T144905Z
UID:10004814-1796540400-1796565600@stationairynashville.com
SUMMARY:Sunday Brunch with Live DJ
DESCRIPTION:Treat yourself to bottomless mimosas\, a build your own Bloody Mary bar and a Sunday DJ exclusively at The Union Station Nashville Yards\, right on Broadway in Nashville\, TN. Specialty brunch offered all weekend long\, along with the ease of complimentary two-hour valet parking. Reservations highly encouraged!
URL:https://stationairynashville.com/event/sunday-brunch-with-live-dj/2026-12-06/
END:VEVENT
BEGIN:VEVENT
DTSTART;TZID=UTC:20261212T070000
DTEND;TZID=UTC:20261212T140000
DTSTAMP:20260419T142206
CREATED:20250326T155656Z
LAST-MODIFIED:20250521T145022Z
UID:10005977-1797058800-1797084000@stationairynashville.com
SUMMARY:Saturday Brunch
DESCRIPTION:Treat yourself to bottomless mimosas and a build your own Bloody Mary bar exclusively at The Union Station Nashville Yards\, right on Broadway in Nashville\, TN. Enjoy this specialty brunch along with the ease of complimentary two-hour valet parking. Reservations highly encouraged!
URL:https://stationairynashville.com/event/saturday-brunch/2026-12-12/
ATTACH;FMTTYPE=image/png:https://stationairynashville.com/wp-content/uploads/2025/03/Brunch-Bloody-Mary.png
END:VEVENT
BEGIN:VEVENT
DTSTART;TZID=UTC:20261213T070000
DTEND;TZID=UTC:20261213T140000
DTSTAMP:20260419T142206
CREATED:20250326T155047Z
LAST-MODIFIED:20250521T144905Z
UID:10004817-1797145200-1797170400@stationairynashville.com
SUMMARY:Sunday Brunch with Live DJ
DESCRIPTION:Treat yourself to bottomless mimosas\, a build your own Bloody Mary bar and a Sunday DJ exclusively at The Union Station Nashville Yards\, right on Broadway in Nashville\, TN. Specialty brunch offered all weekend long\, along with the ease of complimentary two-hour valet parking. Reservations highly encouraged!
URL:https://stationairynashville.com/event/sunday-brunch-with-live-dj/2026-12-13/
END:VEVENT
BEGIN:VEVENT
DTSTART;TZID=UTC:20261219T070000
DTEND;TZID=UTC:20261219T140000
DTSTAMP:20260419T142206
CREATED:20250326T155656Z
LAST-MODIFIED:20250521T145022Z
UID:10005978-1797663600-1797688800@stationairynashville.com
SUMMARY:Saturday Brunch
DESCRIPTION:Treat yourself to bottomless mimosas and a build your own Bloody Mary bar exclusively at The Union Station Nashville Yards\, right on Broadway in Nashville\, TN. Enjoy this specialty brunch along with the ease of complimentary two-hour valet parking. Reservations highly encouraged!
URL:https://stationairynashville.com/event/saturday-brunch/2026-12-19/
ATTACH;FMTTYPE=image/png:https://stationairynashville.com/wp-content/uploads/2025/03/Brunch-Bloody-Mary.png
END:VEVENT
BEGIN:VEVENT
DTSTART;TZID=UTC:20261220T070000
DTEND;TZID=UTC:20261220T140000
DTSTAMP:20260419T142206
CREATED:20250326T155047Z
LAST-MODIFIED:20250521T144905Z
UID:10004820-1797750000-1797775200@stationairynashville.com
SUMMARY:Sunday Brunch with Live DJ
DESCRIPTION:Treat yourself to bottomless mimosas\, a build your own Bloody Mary bar and a Sunday DJ exclusively at The Union Station Nashville Yards\, right on Broadway in Nashville\, TN. Specialty brunch offered all weekend long\, along with the ease of complimentary two-hour valet parking. Reservations highly encouraged!
URL:https://stationairynashville.com/event/sunday-brunch-with-live-dj/2026-12-20/
END:VEVENT
BEGIN:VEVENT
DTSTART;TZID=UTC:20261226T070000
DTEND;TZID=UTC:20261226T140000
DTSTAMP:20260419T142206
CREATED:20250326T155656Z
LAST-MODIFIED:20250521T145022Z
UID:10005979-1798268400-1798293600@stationairynashville.com
SUMMARY:Saturday Brunch
DESCRIPTION:Treat yourself to bottomless mimosas and a build your own Bloody Mary bar exclusively at The Union Station Nashville Yards\, right on Broadway in Nashville\, TN. Enjoy this specialty brunch along with the ease of complimentary two-hour valet parking. Reservations highly encouraged!
URL:https://stationairynashville.com/event/saturday-brunch/2026-12-26/
ATTACH;FMTTYPE=image/png:https://stationairynashville.com/wp-content/uploads/2025/03/Brunch-Bloody-Mary.png
END:VEVENT
BEGIN:VEVENT
DTSTART;TZID=UTC:20261227T070000
DTEND;TZID=UTC:20261227T140000
DTSTAMP:20260419T142206
CREATED:20250326T155047Z
LAST-MODIFIED:20250521T144905Z
UID:10004823-1798354800-1798380000@stationairynashville.com
SUMMARY:Sunday Brunch with Live DJ
DESCRIPTION:Treat yourself to bottomless mimosas\, a build your own Bloody Mary bar and a Sunday DJ exclusively at The Union Station Nashville Yards\, right on Broadway in Nashville\, TN. Specialty brunch offered all weekend long\, along with the ease of complimentary two-hour valet parking. Reservations highly encouraged!
URL:https://stationairynashville.com/event/sunday-brunch-with-live-dj/2026-12-27/
END:VEVENT
BEGIN:VEVENT
DTSTART;TZID=UTC:20270102T070000
DTEND;TZID=UTC:20270102T140000
DTSTAMP:20260419T142206
CREATED:20250326T155656Z
LAST-MODIFIED:20250521T145022Z
UID:10005980-1798873200-1798898400@stationairynashville.com
SUMMARY:Saturday Brunch
DESCRIPTION:Treat yourself to bottomless mimosas and a build your own Bloody Mary bar exclusively at The Union Station Nashville Yards\, right on Broadway in Nashville\, TN. Enjoy this specialty brunch along with the ease of complimentary two-hour valet parking. Reservations highly encouraged!
URL:https://stationairynashville.com/event/saturday-brunch/2027-01-02/
ATTACH;FMTTYPE=image/png:https://stationairynashville.com/wp-content/uploads/2025/03/Brunch-Bloody-Mary.png
END:VEVENT
BEGIN:VEVENT
DTSTART;TZID=UTC:20270103T070000
DTEND;TZID=UTC:20270103T140000
DTSTAMP:20260419T142206
CREATED:20250326T155047Z
LAST-MODIFIED:20250521T144905Z
UID:10004826-1798959600-1798984800@stationairynashville.com
SUMMARY:Sunday Brunch with Live DJ
DESCRIPTION:Treat yourself to bottomless mimosas\, a build your own Bloody Mary bar and a Sunday DJ exclusively at The Union Station Nashville Yards\, right on Broadway in Nashville\, TN. Specialty brunch offered all weekend long\, along with the ease of complimentary two-hour valet parking. Reservations highly encouraged!
URL:https://stationairynashville.com/event/sunday-brunch-with-live-dj/2027-01-03/
END:VEVENT
BEGIN:VEVENT
DTSTART;TZID=UTC:20270109T070000
DTEND;TZID=UTC:20270109T140000
DTSTAMP:20260419T142206
CREATED:20250326T155656Z
LAST-MODIFIED:20250521T145022Z
UID:10005981-1799478000-1799503200@stationairynashville.com
SUMMARY:Saturday Brunch
DESCRIPTION:Treat yourself to bottomless mimosas and a build your own Bloody Mary bar exclusively at The Union Station Nashville Yards\, right on Broadway in Nashville\, TN. Enjoy this specialty brunch along with the ease of complimentary two-hour valet parking. Reservations highly encouraged!
URL:https://stationairynashville.com/event/saturday-brunch/2027-01-09/
ATTACH;FMTTYPE=image/png:https://stationairynashville.com/wp-content/uploads/2025/03/Brunch-Bloody-Mary.png
END:VEVENT
BEGIN:VEVENT
DTSTART;TZID=UTC:20270110T070000
DTEND;TZID=UTC:20270110T140000
DTSTAMP:20260419T142206
CREATED:20250326T155047Z
LAST-MODIFIED:20250521T144905Z
UID:10004829-1799564400-1799589600@stationairynashville.com
SUMMARY:Sunday Brunch with Live DJ
DESCRIPTION:Treat yourself to bottomless mimosas\, a build your own Bloody Mary bar and a Sunday DJ exclusively at The Union Station Nashville Yards\, right on Broadway in Nashville\, TN. Specialty brunch offered all weekend long\, along with the ease of complimentary two-hour valet parking. Reservations highly encouraged!
URL:https://stationairynashville.com/event/sunday-brunch-with-live-dj/2027-01-10/
END:VEVENT
BEGIN:VEVENT
DTSTART;TZID=UTC:20270116T070000
DTEND;TZID=UTC:20270116T140000
DTSTAMP:20260419T142206
CREATED:20250326T155656Z
LAST-MODIFIED:20250521T145022Z
UID:10005982-1800082800-1800108000@stationairynashville.com
SUMMARY:Saturday Brunch
DESCRIPTION:Treat yourself to bottomless mimosas and a build your own Bloody Mary bar exclusively at The Union Station Nashville Yards\, right on Broadway in Nashville\, TN. Enjoy this specialty brunch along with the ease of complimentary two-hour valet parking. Reservations highly encouraged!
URL:https://stationairynashville.com/event/saturday-brunch/2027-01-16/
ATTACH;FMTTYPE=image/png:https://stationairynashville.com/wp-content/uploads/2025/03/Brunch-Bloody-Mary.png
END:VEVENT
BEGIN:VEVENT
DTSTART;TZID=UTC:20270117T070000
DTEND;TZID=UTC:20270117T140000
DTSTAMP:20260419T142206
CREATED:20250326T155047Z
LAST-MODIFIED:20250521T144905Z
UID:10004832-1800169200-1800194400@stationairynashville.com
SUMMARY:Sunday Brunch with Live DJ
DESCRIPTION:Treat yourself to bottomless mimosas\, a build your own Bloody Mary bar and a Sunday DJ exclusively at The Union Station Nashville Yards\, right on Broadway in Nashville\, TN. Specialty brunch offered all weekend long\, along with the ease of complimentary two-hour valet parking. Reservations highly encouraged!
URL:https://stationairynashville.com/event/sunday-brunch-with-live-dj/2027-01-17/
END:VEVENT
BEGIN:VEVENT
DTSTART;TZID=UTC:20270123T070000
DTEND;TZID=UTC:20270123T140000
DTSTAMP:20260419T142206
CREATED:20250326T155656Z
LAST-MODIFIED:20250521T145022Z
UID:10005983-1800687600-1800712800@stationairynashville.com
SUMMARY:Saturday Brunch
DESCRIPTION:Treat yourself to bottomless mimosas and a build your own Bloody Mary bar exclusively at The Union Station Nashville Yards\, right on Broadway in Nashville\, TN. Enjoy this specialty brunch along with the ease of complimentary two-hour valet parking. Reservations highly encouraged!
URL:https://stationairynashville.com/event/saturday-brunch/2027-01-23/
ATTACH;FMTTYPE=image/png:https://stationairynashville.com/wp-content/uploads/2025/03/Brunch-Bloody-Mary.png
END:VEVENT
BEGIN:VEVENT
DTSTART;TZID=UTC:20270124T070000
DTEND;TZID=UTC:20270124T140000
DTSTAMP:20260419T142206
CREATED:20250326T155047Z
LAST-MODIFIED:20250521T144905Z
UID:10004835-1800774000-1800799200@stationairynashville.com
SUMMARY:Sunday Brunch with Live DJ
DESCRIPTION:Treat yourself to bottomless mimosas\, a build your own Bloody Mary bar and a Sunday DJ exclusively at The Union Station Nashville Yards\, right on Broadway in Nashville\, TN. Specialty brunch offered all weekend long\, along with the ease of complimentary two-hour valet parking. Reservations highly encouraged!
URL:https://stationairynashville.com/event/sunday-brunch-with-live-dj/2027-01-24/
END:VEVENT
BEGIN:VEVENT
DTSTART;TZID=UTC:20270130T070000
DTEND;TZID=UTC:20270130T140000
DTSTAMP:20260419T142206
CREATED:20250326T155656Z
LAST-MODIFIED:20250521T145022Z
UID:10005984-1801292400-1801317600@stationairynashville.com
SUMMARY:Saturday Brunch
DESCRIPTION:Treat yourself to bottomless mimosas and a build your own Bloody Mary bar exclusively at The Union Station Nashville Yards\, right on Broadway in Nashville\, TN. Enjoy this specialty brunch along with the ease of complimentary two-hour valet parking. Reservations highly encouraged!
URL:https://stationairynashville.com/event/saturday-brunch/2027-01-30/
ATTACH;FMTTYPE=image/png:https://stationairynashville.com/wp-content/uploads/2025/03/Brunch-Bloody-Mary.png
END:VEVENT
BEGIN:VEVENT
DTSTART;TZID=UTC:20270131T070000
DTEND;TZID=UTC:20270131T140000
DTSTAMP:20260419T142206
CREATED:20250326T155047Z
LAST-MODIFIED:20250521T144905Z
UID:10004838-1801378800-1801404000@stationairynashville.com
SUMMARY:Sunday Brunch with Live DJ
DESCRIPTION:Treat yourself to bottomless mimosas\, a build your own Bloody Mary bar and a Sunday DJ exclusively at The Union Station Nashville Yards\, right on Broadway in Nashville\, TN. Specialty brunch offered all weekend long\, along with the ease of complimentary two-hour valet parking. Reservations highly encouraged!
URL:https://stationairynashville.com/event/sunday-brunch-with-live-dj/2027-01-31/
END:VEVENT
BEGIN:VEVENT
DTSTART;TZID=UTC:20270206T070000
DTEND;TZID=UTC:20270206T140000
DTSTAMP:20260419T142207
CREATED:20250326T155656Z
LAST-MODIFIED:20250521T145022Z
UID:10005985-1801897200-1801922400@stationairynashville.com
SUMMARY:Saturday Brunch
DESCRIPTION:Treat yourself to bottomless mimosas and a build your own Bloody Mary bar exclusively at The Union Station Nashville Yards\, right on Broadway in Nashville\, TN. Enjoy this specialty brunch along with the ease of complimentary two-hour valet parking. Reservations highly encouraged!
URL:https://stationairynashville.com/event/saturday-brunch/2027-02-06/
ATTACH;FMTTYPE=image/png:https://stationairynashville.com/wp-content/uploads/2025/03/Brunch-Bloody-Mary.png
END:VEVENT
BEGIN:VEVENT
DTSTART;TZID=UTC:20270207T070000
DTEND;TZID=UTC:20270207T140000
DTSTAMP:20260419T142207
CREATED:20250326T155047Z
LAST-MODIFIED:20250521T144905Z
UID:10004841-1801983600-1802008800@stationairynashville.com
SUMMARY:Sunday Brunch with Live DJ
DESCRIPTION:Treat yourself to bottomless mimosas\, a build your own Bloody Mary bar and a Sunday DJ exclusively at The Union Station Nashville Yards\, right on Broadway in Nashville\, TN. Specialty brunch offered all weekend long\, along with the ease of complimentary two-hour valet parking. Reservations highly encouraged!
URL:https://stationairynashville.com/event/sunday-brunch-with-live-dj/2027-02-07/
END:VEVENT
BEGIN:VEVENT
DTSTART;TZID=UTC:20270213T070000
DTEND;TZID=UTC:20270213T140000
DTSTAMP:20260419T142207
CREATED:20250326T155656Z
LAST-MODIFIED:20250521T145022Z
UID:10005986-1802502000-1802527200@stationairynashville.com
SUMMARY:Saturday Brunch
DESCRIPTION:Treat yourself to bottomless mimosas and a build your own Bloody Mary bar exclusively at The Union Station Nashville Yards\, right on Broadway in Nashville\, TN. Enjoy this specialty brunch along with the ease of complimentary two-hour valet parking. Reservations highly encouraged!
URL:https://stationairynashville.com/event/saturday-brunch/2027-02-13/
ATTACH;FMTTYPE=image/png:https://stationairynashville.com/wp-content/uploads/2025/03/Brunch-Bloody-Mary.png
END:VEVENT
BEGIN:VEVENT
DTSTART;TZID=UTC:20270214T070000
DTEND;TZID=UTC:20270214T140000
DTSTAMP:20260419T142207
CREATED:20250326T155047Z
LAST-MODIFIED:20250521T144905Z
UID:10004844-1802588400-1802613600@stationairynashville.com
SUMMARY:Sunday Brunch with Live DJ
DESCRIPTION:Treat yourself to bottomless mimosas\, a build your own Bloody Mary bar and a Sunday DJ exclusively at The Union Station Nashville Yards\, right on Broadway in Nashville\, TN. Specialty brunch offered all weekend long\, along with the ease of complimentary two-hour valet parking. Reservations highly encouraged!
URL:https://stationairynashville.com/event/sunday-brunch-with-live-dj/2027-02-14/
END:VEVENT
BEGIN:VEVENT
DTSTART;TZID=UTC:20270220T070000
DTEND;TZID=UTC:20270220T140000
DTSTAMP:20260419T142207
CREATED:20250326T155656Z
LAST-MODIFIED:20250521T145022Z
UID:10005987-1803106800-1803132000@stationairynashville.com
SUMMARY:Saturday Brunch
DESCRIPTION:Treat yourself to bottomless mimosas and a build your own Bloody Mary bar exclusively at The Union Station Nashville Yards\, right on Broadway in Nashville\, TN. Enjoy this specialty brunch along with the ease of complimentary two-hour valet parking. Reservations highly encouraged!
URL:https://stationairynashville.com/event/saturday-brunch/2027-02-20/
ATTACH;FMTTYPE=image/png:https://stationairynashville.com/wp-content/uploads/2025/03/Brunch-Bloody-Mary.png
END:VEVENT
BEGIN:VEVENT
DTSTART;TZID=UTC:20270221T070000
DTEND;TZID=UTC:20270221T140000
DTSTAMP:20260419T142207
CREATED:20250326T155047Z
LAST-MODIFIED:20250521T144905Z
UID:10004847-1803193200-1803218400@stationairynashville.com
SUMMARY:Sunday Brunch with Live DJ
DESCRIPTION:Treat yourself to bottomless mimosas\, a build your own Bloody Mary bar and a Sunday DJ exclusively at The Union Station Nashville Yards\, right on Broadway in Nashville\, TN. Specialty brunch offered all weekend long\, along with the ease of complimentary two-hour valet parking. Reservations highly encouraged!
URL:https://stationairynashville.com/event/sunday-brunch-with-live-dj/2027-02-21/
END:VEVENT
BEGIN:VEVENT
DTSTART;TZID=UTC:20270227T070000
DTEND;TZID=UTC:20270227T140000
DTSTAMP:20260419T142207
CREATED:20250326T155656Z
LAST-MODIFIED:20250521T145022Z
UID:10005988-1803711600-1803736800@stationairynashville.com
SUMMARY:Saturday Brunch
DESCRIPTION:Treat yourself to bottomless mimosas and a build your own Bloody Mary bar exclusively at The Union Station Nashville Yards\, right on Broadway in Nashville\, TN. Enjoy this specialty brunch along with the ease of complimentary two-hour valet parking. Reservations highly encouraged!
URL:https://stationairynashville.com/event/saturday-brunch/2027-02-27/
ATTACH;FMTTYPE=image/png:https://stationairynashville.com/wp-content/uploads/2025/03/Brunch-Bloody-Mary.png
END:VEVENT
BEGIN:VEVENT
DTSTART;TZID=UTC:20270228T070000
DTEND;TZID=UTC:20270228T140000
DTSTAMP:20260419T142207
CREATED:20250326T155047Z
LAST-MODIFIED:20250521T144905Z
UID:10004850-1803798000-1803823200@stationairynashville.com
SUMMARY:Sunday Brunch with Live DJ
DESCRIPTION:Treat yourself to bottomless mimosas\, a build your own Bloody Mary bar and a Sunday DJ exclusively at The Union Station Nashville Yards\, right on Broadway in Nashville\, TN. Specialty brunch offered all weekend long\, along with the ease of complimentary two-hour valet parking. Reservations highly encouraged!
URL:https://stationairynashville.com/event/sunday-brunch-with-live-dj/2027-02-28/
END:VEVENT
END:VCALENDAR