BEGIN:VCALENDAR
VERSION:2.0
PRODID:-//Stationairy Restaurant - ECPv6.15.20//NONSGML v1.0//EN
CALSCALE:GREGORIAN
METHOD:PUBLISH
X-ORIGINAL-URL:https://stationairynashville.com
X-WR-CALDESC:Events for Stationairy Restaurant
REFRESH-INTERVAL;VALUE=DURATION:PT1H
X-Robots-Tag:noindex
X-PUBLISHED-TTL:PT1H
BEGIN:VTIMEZONE
TZID:UTC
BEGIN:STANDARD
TZOFFSETFROM:+0000
TZOFFSETTO:+0000
TZNAME:UTC
DTSTART:20260101T000000
END:STANDARD
END:VTIMEZONE
BEGIN:VEVENT
DTSTART;TZID=UTC:20270213T070000
DTEND;TZID=UTC:20270213T140000
DTSTAMP:20260421T113649
CREATED:20250326T155656Z
LAST-MODIFIED:20250521T145022Z
UID:10005986-1802502000-1802527200@stationairynashville.com
SUMMARY:Saturday Brunch
DESCRIPTION:Treat yourself to bottomless mimosas and a build your own Bloody Mary bar exclusively at The Union Station Nashville Yards\, right on Broadway in Nashville\, TN. Enjoy this specialty brunch along with the ease of complimentary two-hour valet parking. Reservations highly encouraged!
URL:https://stationairynashville.com/event/saturday-brunch/2027-02-13/
ATTACH;FMTTYPE=image/png:https://stationairynashville.com/wp-content/uploads/2025/03/Brunch-Bloody-Mary.png
END:VEVENT
BEGIN:VEVENT
DTSTART;TZID=UTC:20270214T070000
DTEND;TZID=UTC:20270214T140000
DTSTAMP:20260421T113649
CREATED:20250326T155047Z
LAST-MODIFIED:20250521T144905Z
UID:10004844-1802588400-1802613600@stationairynashville.com
SUMMARY:Sunday Brunch with Live DJ
DESCRIPTION:Treat yourself to bottomless mimosas\, a build your own Bloody Mary bar and a Sunday DJ exclusively at The Union Station Nashville Yards\, right on Broadway in Nashville\, TN. Specialty brunch offered all weekend long\, along with the ease of complimentary two-hour valet parking. Reservations highly encouraged!
URL:https://stationairynashville.com/event/sunday-brunch-with-live-dj/2027-02-14/
END:VEVENT
BEGIN:VEVENT
DTSTART;TZID=UTC:20270220T070000
DTEND;TZID=UTC:20270220T140000
DTSTAMP:20260421T113649
CREATED:20250326T155656Z
LAST-MODIFIED:20250521T145022Z
UID:10005987-1803106800-1803132000@stationairynashville.com
SUMMARY:Saturday Brunch
DESCRIPTION:Treat yourself to bottomless mimosas and a build your own Bloody Mary bar exclusively at The Union Station Nashville Yards\, right on Broadway in Nashville\, TN. Enjoy this specialty brunch along with the ease of complimentary two-hour valet parking. Reservations highly encouraged!
URL:https://stationairynashville.com/event/saturday-brunch/2027-02-20/
ATTACH;FMTTYPE=image/png:https://stationairynashville.com/wp-content/uploads/2025/03/Brunch-Bloody-Mary.png
END:VEVENT
BEGIN:VEVENT
DTSTART;TZID=UTC:20270221T070000
DTEND;TZID=UTC:20270221T140000
DTSTAMP:20260421T113649
CREATED:20250326T155047Z
LAST-MODIFIED:20250521T144905Z
UID:10004847-1803193200-1803218400@stationairynashville.com
SUMMARY:Sunday Brunch with Live DJ
DESCRIPTION:Treat yourself to bottomless mimosas\, a build your own Bloody Mary bar and a Sunday DJ exclusively at The Union Station Nashville Yards\, right on Broadway in Nashville\, TN. Specialty brunch offered all weekend long\, along with the ease of complimentary two-hour valet parking. Reservations highly encouraged!
URL:https://stationairynashville.com/event/sunday-brunch-with-live-dj/2027-02-21/
END:VEVENT
BEGIN:VEVENT
DTSTART;TZID=UTC:20270227T070000
DTEND;TZID=UTC:20270227T140000
DTSTAMP:20260421T113649
CREATED:20250326T155656Z
LAST-MODIFIED:20250521T145022Z
UID:10005988-1803711600-1803736800@stationairynashville.com
SUMMARY:Saturday Brunch
DESCRIPTION:Treat yourself to bottomless mimosas and a build your own Bloody Mary bar exclusively at The Union Station Nashville Yards\, right on Broadway in Nashville\, TN. Enjoy this specialty brunch along with the ease of complimentary two-hour valet parking. Reservations highly encouraged!
URL:https://stationairynashville.com/event/saturday-brunch/2027-02-27/
ATTACH;FMTTYPE=image/png:https://stationairynashville.com/wp-content/uploads/2025/03/Brunch-Bloody-Mary.png
END:VEVENT
BEGIN:VEVENT
DTSTART;TZID=UTC:20270228T070000
DTEND;TZID=UTC:20270228T140000
DTSTAMP:20260421T113649
CREATED:20250326T155047Z
LAST-MODIFIED:20250521T144905Z
UID:10004850-1803798000-1803823200@stationairynashville.com
SUMMARY:Sunday Brunch with Live DJ
DESCRIPTION:Treat yourself to bottomless mimosas\, a build your own Bloody Mary bar and a Sunday DJ exclusively at The Union Station Nashville Yards\, right on Broadway in Nashville\, TN. Specialty brunch offered all weekend long\, along with the ease of complimentary two-hour valet parking. Reservations highly encouraged!
URL:https://stationairynashville.com/event/sunday-brunch-with-live-dj/2027-02-28/
END:VEVENT
BEGIN:VEVENT
DTSTART;TZID=UTC:20270306T070000
DTEND;TZID=UTC:20270306T140000
DTSTAMP:20260421T113649
CREATED:20250326T155656Z
LAST-MODIFIED:20250521T145022Z
UID:10005989-1804316400-1804341600@stationairynashville.com
SUMMARY:Saturday Brunch
DESCRIPTION:Treat yourself to bottomless mimosas and a build your own Bloody Mary bar exclusively at The Union Station Nashville Yards\, right on Broadway in Nashville\, TN. Enjoy this specialty brunch along with the ease of complimentary two-hour valet parking. Reservations highly encouraged!
URL:https://stationairynashville.com/event/saturday-brunch/2027-03-06/
ATTACH;FMTTYPE=image/png:https://stationairynashville.com/wp-content/uploads/2025/03/Brunch-Bloody-Mary.png
END:VEVENT
BEGIN:VEVENT
DTSTART;TZID=UTC:20270307T070000
DTEND;TZID=UTC:20270307T140000
DTSTAMP:20260421T113649
CREATED:20250326T155047Z
LAST-MODIFIED:20250521T144905Z
UID:10004853-1804402800-1804428000@stationairynashville.com
SUMMARY:Sunday Brunch with Live DJ
DESCRIPTION:Treat yourself to bottomless mimosas\, a build your own Bloody Mary bar and a Sunday DJ exclusively at The Union Station Nashville Yards\, right on Broadway in Nashville\, TN. Specialty brunch offered all weekend long\, along with the ease of complimentary two-hour valet parking. Reservations highly encouraged!
URL:https://stationairynashville.com/event/sunday-brunch-with-live-dj/2027-03-07/
END:VEVENT
BEGIN:VEVENT
DTSTART;TZID=UTC:20270313T070000
DTEND;TZID=UTC:20270313T140000
DTSTAMP:20260421T113649
CREATED:20250326T155656Z
LAST-MODIFIED:20250521T145022Z
UID:10005990-1804921200-1804946400@stationairynashville.com
SUMMARY:Saturday Brunch
DESCRIPTION:Treat yourself to bottomless mimosas and a build your own Bloody Mary bar exclusively at The Union Station Nashville Yards\, right on Broadway in Nashville\, TN. Enjoy this specialty brunch along with the ease of complimentary two-hour valet parking. Reservations highly encouraged!
URL:https://stationairynashville.com/event/saturday-brunch/2027-03-13/
ATTACH;FMTTYPE=image/png:https://stationairynashville.com/wp-content/uploads/2025/03/Brunch-Bloody-Mary.png
END:VEVENT
BEGIN:VEVENT
DTSTART;TZID=UTC:20270314T070000
DTEND;TZID=UTC:20270314T140000
DTSTAMP:20260421T113649
CREATED:20250326T155047Z
LAST-MODIFIED:20250521T144905Z
UID:10004856-1805007600-1805032800@stationairynashville.com
SUMMARY:Sunday Brunch with Live DJ
DESCRIPTION:Treat yourself to bottomless mimosas\, a build your own Bloody Mary bar and a Sunday DJ exclusively at The Union Station Nashville Yards\, right on Broadway in Nashville\, TN. Specialty brunch offered all weekend long\, along with the ease of complimentary two-hour valet parking. Reservations highly encouraged!
URL:https://stationairynashville.com/event/sunday-brunch-with-live-dj/2027-03-14/
END:VEVENT
BEGIN:VEVENT
DTSTART;TZID=UTC:20270320T070000
DTEND;TZID=UTC:20270320T140000
DTSTAMP:20260421T113649
CREATED:20250326T155656Z
LAST-MODIFIED:20250521T145022Z
UID:10005991-1805526000-1805551200@stationairynashville.com
SUMMARY:Saturday Brunch
DESCRIPTION:Treat yourself to bottomless mimosas and a build your own Bloody Mary bar exclusively at The Union Station Nashville Yards\, right on Broadway in Nashville\, TN. Enjoy this specialty brunch along with the ease of complimentary two-hour valet parking. Reservations highly encouraged!
URL:https://stationairynashville.com/event/saturday-brunch/2027-03-20/
ATTACH;FMTTYPE=image/png:https://stationairynashville.com/wp-content/uploads/2025/03/Brunch-Bloody-Mary.png
END:VEVENT
BEGIN:VEVENT
DTSTART;TZID=UTC:20270321T070000
DTEND;TZID=UTC:20270321T140000
DTSTAMP:20260421T113649
CREATED:20250326T155047Z
LAST-MODIFIED:20250521T144905Z
UID:10004859-1805612400-1805637600@stationairynashville.com
SUMMARY:Sunday Brunch with Live DJ
DESCRIPTION:Treat yourself to bottomless mimosas\, a build your own Bloody Mary bar and a Sunday DJ exclusively at The Union Station Nashville Yards\, right on Broadway in Nashville\, TN. Specialty brunch offered all weekend long\, along with the ease of complimentary two-hour valet parking. Reservations highly encouraged!
URL:https://stationairynashville.com/event/sunday-brunch-with-live-dj/2027-03-21/
END:VEVENT
BEGIN:VEVENT
DTSTART;TZID=UTC:20270327T070000
DTEND;TZID=UTC:20270327T140000
DTSTAMP:20260421T113649
CREATED:20250326T155656Z
LAST-MODIFIED:20250521T145022Z
UID:10005992-1806130800-1806156000@stationairynashville.com
SUMMARY:Saturday Brunch
DESCRIPTION:Treat yourself to bottomless mimosas and a build your own Bloody Mary bar exclusively at The Union Station Nashville Yards\, right on Broadway in Nashville\, TN. Enjoy this specialty brunch along with the ease of complimentary two-hour valet parking. Reservations highly encouraged!
URL:https://stationairynashville.com/event/saturday-brunch/2027-03-27/
ATTACH;FMTTYPE=image/png:https://stationairynashville.com/wp-content/uploads/2025/03/Brunch-Bloody-Mary.png
END:VEVENT
BEGIN:VEVENT
DTSTART;TZID=UTC:20270328T070000
DTEND;TZID=UTC:20270328T140000
DTSTAMP:20260421T113649
CREATED:20250326T155047Z
LAST-MODIFIED:20250521T144905Z
UID:10004862-1806217200-1806242400@stationairynashville.com
SUMMARY:Sunday Brunch with Live DJ
DESCRIPTION:Treat yourself to bottomless mimosas\, a build your own Bloody Mary bar and a Sunday DJ exclusively at The Union Station Nashville Yards\, right on Broadway in Nashville\, TN. Specialty brunch offered all weekend long\, along with the ease of complimentary two-hour valet parking. Reservations highly encouraged!
URL:https://stationairynashville.com/event/sunday-brunch-with-live-dj/2027-03-28/
END:VEVENT
BEGIN:VEVENT
DTSTART;TZID=UTC:20270403T070000
DTEND;TZID=UTC:20270403T140000
DTSTAMP:20260421T113649
CREATED:20250326T155656Z
LAST-MODIFIED:20250521T145022Z
UID:10005993-1806735600-1806760800@stationairynashville.com
SUMMARY:Saturday Brunch
DESCRIPTION:Treat yourself to bottomless mimosas and a build your own Bloody Mary bar exclusively at The Union Station Nashville Yards\, right on Broadway in Nashville\, TN. Enjoy this specialty brunch along with the ease of complimentary two-hour valet parking. Reservations highly encouraged!
URL:https://stationairynashville.com/event/saturday-brunch/2027-04-03/
ATTACH;FMTTYPE=image/png:https://stationairynashville.com/wp-content/uploads/2025/03/Brunch-Bloody-Mary.png
END:VEVENT
BEGIN:VEVENT
DTSTART;TZID=UTC:20270404T070000
DTEND;TZID=UTC:20270404T140000
DTSTAMP:20260421T113649
CREATED:20250326T155047Z
LAST-MODIFIED:20250521T144905Z
UID:10004865-1806822000-1806847200@stationairynashville.com
SUMMARY:Sunday Brunch with Live DJ
DESCRIPTION:Treat yourself to bottomless mimosas\, a build your own Bloody Mary bar and a Sunday DJ exclusively at The Union Station Nashville Yards\, right on Broadway in Nashville\, TN. Specialty brunch offered all weekend long\, along with the ease of complimentary two-hour valet parking. Reservations highly encouraged!
URL:https://stationairynashville.com/event/sunday-brunch-with-live-dj/2027-04-04/
END:VEVENT
BEGIN:VEVENT
DTSTART;TZID=UTC:20270410T070000
DTEND;TZID=UTC:20270410T140000
DTSTAMP:20260421T113649
CREATED:20250326T155656Z
LAST-MODIFIED:20250521T145022Z
UID:10005994-1807340400-1807365600@stationairynashville.com
SUMMARY:Saturday Brunch
DESCRIPTION:Treat yourself to bottomless mimosas and a build your own Bloody Mary bar exclusively at The Union Station Nashville Yards\, right on Broadway in Nashville\, TN. Enjoy this specialty brunch along with the ease of complimentary two-hour valet parking. Reservations highly encouraged!
URL:https://stationairynashville.com/event/saturday-brunch/2027-04-10/
ATTACH;FMTTYPE=image/png:https://stationairynashville.com/wp-content/uploads/2025/03/Brunch-Bloody-Mary.png
END:VEVENT
BEGIN:VEVENT
DTSTART;TZID=UTC:20270411T070000
DTEND;TZID=UTC:20270411T140000
DTSTAMP:20260421T113649
CREATED:20250326T155047Z
LAST-MODIFIED:20250521T144905Z
UID:10004868-1807426800-1807452000@stationairynashville.com
SUMMARY:Sunday Brunch with Live DJ
DESCRIPTION:Treat yourself to bottomless mimosas\, a build your own Bloody Mary bar and a Sunday DJ exclusively at The Union Station Nashville Yards\, right on Broadway in Nashville\, TN. Specialty brunch offered all weekend long\, along with the ease of complimentary two-hour valet parking. Reservations highly encouraged!
URL:https://stationairynashville.com/event/sunday-brunch-with-live-dj/2027-04-11/
END:VEVENT
BEGIN:VEVENT
DTSTART;TZID=UTC:20270417T070000
DTEND;TZID=UTC:20270417T140000
DTSTAMP:20260421T113649
CREATED:20250326T155656Z
LAST-MODIFIED:20250521T145022Z
UID:10005995-1807945200-1807970400@stationairynashville.com
SUMMARY:Saturday Brunch
DESCRIPTION:Treat yourself to bottomless mimosas and a build your own Bloody Mary bar exclusively at The Union Station Nashville Yards\, right on Broadway in Nashville\, TN. Enjoy this specialty brunch along with the ease of complimentary two-hour valet parking. Reservations highly encouraged!
URL:https://stationairynashville.com/event/saturday-brunch/2027-04-17/
ATTACH;FMTTYPE=image/png:https://stationairynashville.com/wp-content/uploads/2025/03/Brunch-Bloody-Mary.png
END:VEVENT
BEGIN:VEVENT
DTSTART;TZID=UTC:20270418T070000
DTEND;TZID=UTC:20270418T140000
DTSTAMP:20260421T113649
CREATED:20250326T155047Z
LAST-MODIFIED:20250521T144905Z
UID:10004871-1808031600-1808056800@stationairynashville.com
SUMMARY:Sunday Brunch with Live DJ
DESCRIPTION:Treat yourself to bottomless mimosas\, a build your own Bloody Mary bar and a Sunday DJ exclusively at The Union Station Nashville Yards\, right on Broadway in Nashville\, TN. Specialty brunch offered all weekend long\, along with the ease of complimentary two-hour valet parking. Reservations highly encouraged!
URL:https://stationairynashville.com/event/sunday-brunch-with-live-dj/2027-04-18/
END:VEVENT
BEGIN:VEVENT
DTSTART;TZID=UTC:20270424T070000
DTEND;TZID=UTC:20270424T140000
DTSTAMP:20260421T113649
CREATED:20250326T155656Z
LAST-MODIFIED:20250521T145022Z
UID:10005996-1808550000-1808575200@stationairynashville.com
SUMMARY:Saturday Brunch
DESCRIPTION:Treat yourself to bottomless mimosas and a build your own Bloody Mary bar exclusively at The Union Station Nashville Yards\, right on Broadway in Nashville\, TN. Enjoy this specialty brunch along with the ease of complimentary two-hour valet parking. Reservations highly encouraged!
URL:https://stationairynashville.com/event/saturday-brunch/2027-04-24/
ATTACH;FMTTYPE=image/png:https://stationairynashville.com/wp-content/uploads/2025/03/Brunch-Bloody-Mary.png
END:VEVENT
BEGIN:VEVENT
DTSTART;TZID=UTC:20270425T070000
DTEND;TZID=UTC:20270425T140000
DTSTAMP:20260421T113649
CREATED:20250326T155047Z
LAST-MODIFIED:20250521T144905Z
UID:10004874-1808636400-1808661600@stationairynashville.com
SUMMARY:Sunday Brunch with Live DJ
DESCRIPTION:Treat yourself to bottomless mimosas\, a build your own Bloody Mary bar and a Sunday DJ exclusively at The Union Station Nashville Yards\, right on Broadway in Nashville\, TN. Specialty brunch offered all weekend long\, along with the ease of complimentary two-hour valet parking. Reservations highly encouraged!
URL:https://stationairynashville.com/event/sunday-brunch-with-live-dj/2027-04-25/
END:VEVENT
BEGIN:VEVENT
DTSTART;TZID=UTC:20270501T070000
DTEND;TZID=UTC:20270501T140000
DTSTAMP:20260421T113649
CREATED:20250326T155656Z
LAST-MODIFIED:20250521T145022Z
UID:10005997-1809154800-1809180000@stationairynashville.com
SUMMARY:Saturday Brunch
DESCRIPTION:Treat yourself to bottomless mimosas and a build your own Bloody Mary bar exclusively at The Union Station Nashville Yards\, right on Broadway in Nashville\, TN. Enjoy this specialty brunch along with the ease of complimentary two-hour valet parking. Reservations highly encouraged!
URL:https://stationairynashville.com/event/saturday-brunch/2027-05-01/
ATTACH;FMTTYPE=image/png:https://stationairynashville.com/wp-content/uploads/2025/03/Brunch-Bloody-Mary.png
END:VEVENT
BEGIN:VEVENT
DTSTART;TZID=UTC:20270502T070000
DTEND;TZID=UTC:20270502T140000
DTSTAMP:20260421T113649
CREATED:20250326T155047Z
LAST-MODIFIED:20250521T144905Z
UID:10004877-1809241200-1809266400@stationairynashville.com
SUMMARY:Sunday Brunch with Live DJ
DESCRIPTION:Treat yourself to bottomless mimosas\, a build your own Bloody Mary bar and a Sunday DJ exclusively at The Union Station Nashville Yards\, right on Broadway in Nashville\, TN. Specialty brunch offered all weekend long\, along with the ease of complimentary two-hour valet parking. Reservations highly encouraged!
URL:https://stationairynashville.com/event/sunday-brunch-with-live-dj/2027-05-02/
END:VEVENT
BEGIN:VEVENT
DTSTART;TZID=UTC:20270508T070000
DTEND;TZID=UTC:20270508T140000
DTSTAMP:20260421T113649
CREATED:20250326T155656Z
LAST-MODIFIED:20250521T145022Z
UID:10005998-1809759600-1809784800@stationairynashville.com
SUMMARY:Saturday Brunch
DESCRIPTION:Treat yourself to bottomless mimosas and a build your own Bloody Mary bar exclusively at The Union Station Nashville Yards\, right on Broadway in Nashville\, TN. Enjoy this specialty brunch along with the ease of complimentary two-hour valet parking. Reservations highly encouraged!
URL:https://stationairynashville.com/event/saturday-brunch/2027-05-08/
ATTACH;FMTTYPE=image/png:https://stationairynashville.com/wp-content/uploads/2025/03/Brunch-Bloody-Mary.png
END:VEVENT
BEGIN:VEVENT
DTSTART;TZID=UTC:20270509T070000
DTEND;TZID=UTC:20270509T140000
DTSTAMP:20260421T113649
CREATED:20250326T155047Z
LAST-MODIFIED:20250521T144905Z
UID:10004880-1809846000-1809871200@stationairynashville.com
SUMMARY:Sunday Brunch with Live DJ
DESCRIPTION:Treat yourself to bottomless mimosas\, a build your own Bloody Mary bar and a Sunday DJ exclusively at The Union Station Nashville Yards\, right on Broadway in Nashville\, TN. Specialty brunch offered all weekend long\, along with the ease of complimentary two-hour valet parking. Reservations highly encouraged!
URL:https://stationairynashville.com/event/sunday-brunch-with-live-dj/2027-05-09/
END:VEVENT
BEGIN:VEVENT
DTSTART;TZID=UTC:20270515T070000
DTEND;TZID=UTC:20270515T140000
DTSTAMP:20260421T113649
CREATED:20250326T155656Z
LAST-MODIFIED:20250521T145022Z
UID:10005999-1810364400-1810389600@stationairynashville.com
SUMMARY:Saturday Brunch
DESCRIPTION:Treat yourself to bottomless mimosas and a build your own Bloody Mary bar exclusively at The Union Station Nashville Yards\, right on Broadway in Nashville\, TN. Enjoy this specialty brunch along with the ease of complimentary two-hour valet parking. Reservations highly encouraged!
URL:https://stationairynashville.com/event/saturday-brunch/2027-05-15/
ATTACH;FMTTYPE=image/png:https://stationairynashville.com/wp-content/uploads/2025/03/Brunch-Bloody-Mary.png
END:VEVENT
BEGIN:VEVENT
DTSTART;TZID=UTC:20270516T070000
DTEND;TZID=UTC:20270516T140000
DTSTAMP:20260421T113649
CREATED:20250326T155047Z
LAST-MODIFIED:20250521T144905Z
UID:10004883-1810450800-1810476000@stationairynashville.com
SUMMARY:Sunday Brunch with Live DJ
DESCRIPTION:Treat yourself to bottomless mimosas\, a build your own Bloody Mary bar and a Sunday DJ exclusively at The Union Station Nashville Yards\, right on Broadway in Nashville\, TN. Specialty brunch offered all weekend long\, along with the ease of complimentary two-hour valet parking. Reservations highly encouraged!
URL:https://stationairynashville.com/event/sunday-brunch-with-live-dj/2027-05-16/
END:VEVENT
BEGIN:VEVENT
DTSTART;TZID=UTC:20270522T070000
DTEND;TZID=UTC:20270522T140000
DTSTAMP:20260421T113649
CREATED:20250326T155656Z
LAST-MODIFIED:20250521T145022Z
UID:10006000-1810969200-1810994400@stationairynashville.com
SUMMARY:Saturday Brunch
DESCRIPTION:Treat yourself to bottomless mimosas and a build your own Bloody Mary bar exclusively at The Union Station Nashville Yards\, right on Broadway in Nashville\, TN. Enjoy this specialty brunch along with the ease of complimentary two-hour valet parking. Reservations highly encouraged!
URL:https://stationairynashville.com/event/saturday-brunch/2027-05-22/
ATTACH;FMTTYPE=image/png:https://stationairynashville.com/wp-content/uploads/2025/03/Brunch-Bloody-Mary.png
END:VEVENT
BEGIN:VEVENT
DTSTART;TZID=UTC:20270523T070000
DTEND;TZID=UTC:20270523T140000
DTSTAMP:20260421T113649
CREATED:20250326T155047Z
LAST-MODIFIED:20250521T144905Z
UID:10004886-1811055600-1811080800@stationairynashville.com
SUMMARY:Sunday Brunch with Live DJ
DESCRIPTION:Treat yourself to bottomless mimosas\, a build your own Bloody Mary bar and a Sunday DJ exclusively at The Union Station Nashville Yards\, right on Broadway in Nashville\, TN. Specialty brunch offered all weekend long\, along with the ease of complimentary two-hour valet parking. Reservations highly encouraged!
URL:https://stationairynashville.com/event/sunday-brunch-with-live-dj/2027-05-23/
END:VEVENT
END:VCALENDAR